BEGIN:VCALENDAR
VERSION:2.0
PRODID:-//Espaço Torah - ECPv6.15.20//NONSGML v1.0//EN
CALSCALE:GREGORIAN
METHOD:PUBLISH
X-WR-CALNAME:Espaço Torah
X-ORIGINAL-URL:https://espacotorah.com.br
X-WR-CALDESC:Eventos para Espaço Torah
REFRESH-INTERVAL;VALUE=DURATION:PT1H
X-Robots-Tag:noindex
X-PUBLISHED-TTL:PT1H
BEGIN:VTIMEZONE
TZID:America/Sao_Paulo
BEGIN:STANDARD
TZOFFSETFROM:-0300
TZOFFSETTO:-0300
TZNAME:-03
DTSTART:20240101T000000
END:STANDARD
END:VTIMEZONE
BEGIN:VEVENT
DTSTART;TZID=America/Sao_Paulo:20250526T080000
DTEND;TZID=America/Sao_Paulo:20250526T220000
DTSTAMP:20260423T133129
CREATED:20250501T012520Z
LAST-MODIFIED:20250501T012520Z
UID:5490-1748246400-1748296800@espacotorah.com.br
SUMMARY:Iom Yerushalayim
DESCRIPTION:28 Iyar: Iom Yerushalayim
URL:https://espacotorah.com.br/evento/iom-yerushalayim/
END:VEVENT
BEGIN:VEVENT
DTSTART;TZID=America/Sao_Paulo:20250524T080000
DTEND;TZID=America/Sao_Paulo:20250524T220000
DTSTAMP:20260423T133129
CREATED:20250501T012249Z
LAST-MODIFIED:20250501T012318Z
UID:5488-1748073600-1748124000@espacotorah.com.br
SUMMARY:Shabat Mevarechim: B’har/B’chukkotai
DESCRIPTION:26 Iyar: B’har/B’chukkotai
URL:https://espacotorah.com.br/evento/shabat-mevarechim-bhar-bchukkotai/
END:VEVENT
BEGIN:VEVENT
DTSTART;TZID=America/Sao_Paulo:20250517T080000
DTEND;TZID=America/Sao_Paulo:20250517T220000
DTSTAMP:20260423T133129
CREATED:20250501T011950Z
LAST-MODIFIED:20250501T011950Z
UID:5486-1747468800-1747519200@espacotorah.com.br
SUMMARY:Emor
DESCRIPTION:19 Iyar: Emor
URL:https://espacotorah.com.br/evento/emor/
END:VEVENT
BEGIN:VEVENT
DTSTART;TZID=America/Sao_Paulo:20250516T080000
DTEND;TZID=America/Sao_Paulo:20250516T220000
DTSTAMP:20260423T133129
CREATED:20250501T011745Z
LAST-MODIFIED:20250501T011745Z
UID:5484-1747382400-1747432800@espacotorah.com.br
SUMMARY:Lag Baomer
DESCRIPTION:18 Iyar: Lag Baomer
URL:https://espacotorah.com.br/evento/lag-baomer/
END:VEVENT
BEGIN:VEVENT
DTSTART;TZID=America/Sao_Paulo:20250512T080000
DTEND;TZID=America/Sao_Paulo:20250512T220000
DTSTAMP:20260423T133129
CREATED:20250501T011649Z
LAST-MODIFIED:20250501T011649Z
UID:5482-1747036800-1747087200@espacotorah.com.br
SUMMARY:Pessach Sheni
DESCRIPTION:14 Iyar: Pessach Sheni
URL:https://espacotorah.com.br/evento/pessach-sheni/
END:VEVENT
BEGIN:VEVENT
DTSTART;TZID=America/Sao_Paulo:20250510T080000
DTEND;TZID=America/Sao_Paulo:20250510T220000
DTSTAMP:20260423T133129
CREATED:20250501T011528Z
LAST-MODIFIED:20250501T011528Z
UID:5480-1746864000-1746914400@espacotorah.com.br
SUMMARY:Acharei mot/K’doshim
DESCRIPTION:12 Iyar: Acharei mot/K’doshim
URL:https://espacotorah.com.br/evento/acharei-mot-kdoshim/
END:VEVENT
BEGIN:VEVENT
DTSTART;TZID=America/Sao_Paulo:20250508T080000
DTEND;TZID=America/Sao_Paulo:20250508T220000
DTSTAMP:20260423T133129
CREATED:20250501T011308Z
LAST-MODIFIED:20250501T011308Z
UID:5478-1746691200-1746741600@espacotorah.com.br
SUMMARY:Dia de Herzl
DESCRIPTION:10 Iyar: Dia de Herzl
URL:https://espacotorah.com.br/evento/dia-de-herzl/
END:VEVENT
BEGIN:VEVENT
DTSTART;TZID=America/Sao_Paulo:20250503T080000
DTEND;TZID=America/Sao_Paulo:20250503T220000
DTSTAMP:20260423T133129
CREATED:20250501T011137Z
LAST-MODIFIED:20250501T011137Z
UID:5476-1746259200-1746309600@espacotorah.com.br
SUMMARY:Tazria/M’tzora
DESCRIPTION:5 Iyar: Tazria/M’tzora
URL:https://espacotorah.com.br/evento/tazria-mtzora/
END:VEVENT
BEGIN:VEVENT
DTSTART;TZID=America/Sao_Paulo:20250501T080000
DTEND;TZID=America/Sao_Paulo:20250501T220000
DTSTAMP:20260423T133129
CREATED:20250501T010719Z
LAST-MODIFIED:20250501T010719Z
UID:5474-1746086400-1746136800@espacotorah.com.br
SUMMARY:Yom HaAtzma'ut
DESCRIPTION:3 Iyar: Yom HaAtzma’ut
URL:https://espacotorah.com.br/evento/yom-haatzmaut/
END:VEVENT
BEGIN:VEVENT
DTSTART;TZID=America/Sao_Paulo:20250430T080000
DTEND;TZID=America/Sao_Paulo:20250430T220000
DTSTAMP:20260423T133129
CREATED:20250501T010544Z
LAST-MODIFIED:20250501T010544Z
UID:5472-1746000000-1746050400@espacotorah.com.br
SUMMARY:Yom HaZikaron
DESCRIPTION:2 Iyar: Yom HaZikaron
URL:https://espacotorah.com.br/evento/yom-hazikaron/
END:VEVENT
BEGIN:VEVENT
DTSTART;TZID=America/Sao_Paulo:20250428T080000
DTEND;TZID=America/Sao_Paulo:20250428T220000
DTSTAMP:20260423T133129
CREATED:20250501T010255Z
LAST-MODIFIED:20250501T010450Z
UID:5470-1745827200-1745877600@espacotorah.com.br
SUMMARY:Rosh Chodesh Iyar
DESCRIPTION:30 Nissan: Rosh Chodesh Iyar
URL:https://espacotorah.com.br/evento/rosh-chodesh-iyar/
END:VEVENT
BEGIN:VEVENT
DTSTART;TZID=America/Sao_Paulo:20250426T080000
DTEND;TZID=America/Sao_Paulo:20250426T220000
DTSTAMP:20260423T133129
CREATED:20250501T005043Z
LAST-MODIFIED:20250501T012343Z
UID:5460-1745654400-1745704800@espacotorah.com.br
SUMMARY:Shabat Mevarechim: Sh'mini
DESCRIPTION:28 Nissan: Parashat Sh’mini
URL:https://espacotorah.com.br/evento/shabat-mevarechim/
END:VEVENT
BEGIN:VEVENT
DTSTART;TZID=America/Sao_Paulo:20250424T080000
DTEND;TZID=America/Sao_Paulo:20250424T220000
DTSTAMP:20260423T133129
CREATED:20250501T010020Z
LAST-MODIFIED:20250501T010047Z
UID:5466-1745481600-1745532000@espacotorah.com.br
SUMMARY:Yom HaShoah
DESCRIPTION:26 Nissan: Yom HaShoah
URL:https://espacotorah.com.br/evento/yom-hashoah/
END:VEVENT
BEGIN:VEVENT
DTSTART;TZID=America/Sao_Paulo:20250420T080000
DTEND;TZID=America/Sao_Paulo:20250420T220000
DTSTAMP:20260423T133129
CREATED:20250501T005930Z
LAST-MODIFIED:20250501T010121Z
UID:5464-1745136000-1745186400@espacotorah.com.br
SUMMARY:Acharon Shel Pessach
DESCRIPTION:22 Nissan: Acharon Shel Pessach (Seudat Mashiach)
URL:https://espacotorah.com.br/evento/acharon-shel-pessach/
END:VEVENT
BEGIN:VEVENT
DTSTART;TZID=America/Sao_Paulo:20250419T080000
DTEND;TZID=America/Sao_Paulo:20250419T220000
DTSTAMP:20260423T133129
CREATED:20250501T002928Z
LAST-MODIFIED:20250501T003956Z
UID:5458-1745049600-1745100000@espacotorah.com.br
SUMMARY:Shevil shel Pessach
DESCRIPTION:21 Nissan
URL:https://espacotorah.com.br/evento/shevil-shel-pessach/
END:VEVENT
BEGIN:VEVENT
DTSTART;TZID=America/Sao_Paulo:20250413T180000
DTEND;TZID=America/Sao_Paulo:20250601T180000
DTSTAMP:20260423T133129
CREATED:20250410T192309Z
LAST-MODIFIED:20250413T223549Z
UID:5368-1744567200-1748800800@espacotorah.com.br
SUMMARY:Contagem do Omer
DESCRIPTION:16 Nissan: Início da Contagem do Omer
URL:https://espacotorah.com.br/evento/omer-1/
END:VEVENT
BEGIN:VEVENT
DTSTART;VALUE=DATE:20250413
DTEND;VALUE=DATE:20250414
DTSTAMP:20260423T133129
CREATED:20250410T192138Z
LAST-MODIFIED:20250410T192138Z
UID:5366-1744502400-1744588799@espacotorah.com.br
SUMMARY:Pessach
DESCRIPTION:15 Nissan: Pessach
URL:https://espacotorah.com.br/evento/pessach/
END:VEVENT
BEGIN:VEVENT
DTSTART;TZID=America/Sao_Paulo:20250412T080000
DTEND;TZID=America/Sao_Paulo:20250412T220000
DTSTAMP:20260423T133129
CREATED:20250410T191803Z
LAST-MODIFIED:20250413T223631Z
UID:5363-1744444800-1744495200@espacotorah.com.br
SUMMARY:Shabat Hagadol: Tzav
DESCRIPTION:14 Nissan: Parashah \nErev Pessach
URL:https://espacotorah.com.br/evento/shabat-hagadol/
END:VEVENT
BEGIN:VEVENT
DTSTART;TZID=America/Sao_Paulo:20250411T060000
DTEND;TZID=America/Sao_Paulo:20250411T220000
DTSTAMP:20260423T133129
CREATED:20250410T191601Z
LAST-MODIFIED:20250410T191601Z
UID:5361-1744351200-1744408800@espacotorah.com.br
SUMMARY:Data Limite para Venda do Chametz
DESCRIPTION:13 Nissan: Data Limite para venda do Chametz
URL:https://espacotorah.com.br/evento/data-limite-para-venda-do-chametz/
END:VEVENT
BEGIN:VEVENT
DTSTART;TZID=America/Sao_Paulo:20250410T060000
DTEND;TZID=America/Sao_Paulo:20250410T180000
DTSTAMP:20260423T133129
CREATED:20250410T191330Z
LAST-MODIFIED:20250410T191405Z
UID:5359-1744264800-1744308000@espacotorah.com.br
SUMMARY:Jejum dos Primogênitos
DESCRIPTION:10 Nissam: Jejum dos Primogênitos \nBusca do Chametz à noite.
URL:https://espacotorah.com.br/evento/jejum-dos-primogenitos/
END:VEVENT
BEGIN:VEVENT
DTSTART;TZID=America/Sao_Paulo:20250408T080000
DTEND;TZID=America/Sao_Paulo:20250408T210000
DTSTAMP:20260423T133129
CREATED:20250410T191143Z
LAST-MODIFIED:20250410T191143Z
UID:5357-1744099200-1744146000@espacotorah.com.br
SUMMARY:Yom HaAliyah
DESCRIPTION:10 Nissan
URL:https://espacotorah.com.br/evento/yom-haaliyah/
END:VEVENT
BEGIN:VEVENT
DTSTART;TZID=America/Sao_Paulo:20250405T080000
DTEND;TZID=America/Sao_Paulo:20250405T220000
DTSTAMP:20260423T133129
CREATED:20250410T190857Z
LAST-MODIFIED:20250501T005343Z
UID:5354-1743840000-1743890400@espacotorah.com.br
SUMMARY:Vayikra
DESCRIPTION:07 Nissan: Parashah
URL:https://espacotorah.com.br/evento/vayikra/
END:VEVENT
BEGIN:VEVENT
DTSTART;TZID=America/Sao_Paulo:20250330T190000
DTEND;TZID=America/Sao_Paulo:20250330T213000
DTSTAMP:20260423T133129
CREATED:20250305T163233Z
LAST-MODIFIED:20250305T163330Z
UID:5265-1743361200-1743370200@espacotorah.com.br
SUMMARY:Rosh Chodesh Nissan
DESCRIPTION:01 Nissan
URL:https://espacotorah.com.br/evento/rosh-chodesh-nissan/
END:VEVENT
BEGIN:VEVENT
DTSTART;TZID=America/Sao_Paulo:20250329T080000
DTEND;TZID=America/Sao_Paulo:20250329T220000
DTSTAMP:20260423T133129
CREATED:20250305T163043Z
LAST-MODIFIED:20250410T193210Z
UID:5263-1743235200-1743285600@espacotorah.com.br
SUMMARY:Shabat Hakodesh: P'kudei
DESCRIPTION:29 Adar: Parashah
URL:https://espacotorah.com.br/evento/shabat-hakodesh-pkudei/
END:VEVENT
BEGIN:VEVENT
DTSTART;TZID=America/Sao_Paulo:20250322T080000
DTEND;TZID=America/Sao_Paulo:20250322T220000
DTSTAMP:20260423T133129
CREATED:20250305T162907Z
LAST-MODIFIED:20250410T193148Z
UID:5261-1742630400-1742680800@espacotorah.com.br
SUMMARY:Shabat Parah: Vayak'hel
DESCRIPTION:22 Adar: Parashah
URL:https://espacotorah.com.br/evento/shabat-parah-vayakhel/
END:VEVENT
BEGIN:VEVENT
DTSTART;TZID=America/Sao_Paulo:20250316T083000
DTEND;TZID=America/Sao_Paulo:20250316T213000
DTSTAMP:20260423T133129
CREATED:20250305T162733Z
LAST-MODIFIED:20250305T162733Z
UID:5259-1742113800-1742160600@espacotorah.com.br
SUMMARY:Purim Meshulash
DESCRIPTION:16 Adar: Purim Meshulash
URL:https://espacotorah.com.br/evento/purim-meshulash/
END:VEVENT
BEGIN:VEVENT
DTSTART;TZID=America/Sao_Paulo:20250315T080000
DTEND;TZID=America/Sao_Paulo:20250315T220000
DTSTAMP:20260423T133129
CREATED:20250305T162517Z
LAST-MODIFIED:20250410T193126Z
UID:5257-1742025600-1742076000@espacotorah.com.br
SUMMARY:Shabat Shushan Purim: Ki tissa
DESCRIPTION:15 Adar: Parashah Ki tissa
URL:https://espacotorah.com.br/evento/shabat-shushan-purim-ki-tissa/
END:VEVENT
BEGIN:VEVENT
DTSTART;TZID=America/Sao_Paulo:20250314T190000
DTEND;TZID=America/Sao_Paulo:20250314T213000
DTSTAMP:20260423T133129
CREATED:20250305T162327Z
LAST-MODIFIED:20250305T162327Z
UID:5255-1741978800-1741987800@espacotorah.com.br
SUMMARY:Purim
DESCRIPTION:14 Adar: Purim.
URL:https://espacotorah.com.br/evento/purim/
END:VEVENT
BEGIN:VEVENT
DTSTART;TZID=America/Sao_Paulo:20250312T183000
DTEND;TZID=America/Sao_Paulo:20250313T193000
DTSTAMP:20260423T133129
CREATED:20250305T162110Z
LAST-MODIFIED:20250305T162110Z
UID:5253-1741804200-1741894200@espacotorah.com.br
SUMMARY:Erev Purim: Jejum de Ester
DESCRIPTION:13 Adar: Erev Purim Jejum de Ester
URL:https://espacotorah.com.br/evento/erev-purim-jejum-de-ester/
END:VEVENT
BEGIN:VEVENT
DTSTART;TZID=America/Sao_Paulo:20250308T080000
DTEND;TZID=America/Sao_Paulo:20250308T220000
DTSTAMP:20260423T133129
CREATED:20250305T161856Z
LAST-MODIFIED:20250410T193056Z
UID:5250-1741420800-1741471200@espacotorah.com.br
SUMMARY:Shabat Zachor: Tetzaveh
DESCRIPTION:08 Adar: Parashah Sh’mot 27.20-30.10\nHaftarah Tetzaveh: Yechezk’el [Ez] 43.10-27.\nLeitura da B’rit Hadashah: Filipenses 4.10-20.
URL:https://espacotorah.com.br/evento/shabat-zachor-tezaveh/
END:VEVENT
END:VCALENDAR